BEGIN:VCALENDAR
VERSION:2.0
CALSCALE:GREGORIAN
METHOD:PUBLISH
X-WR-CALNAME:Кадис
X-WR-TIMEZONE:Europe/Moscow
BEGIN:VTIMEZONE
TZID:Europe/Moscow
X-LIC-LOCATION:Europe/Moscow
BEGIN:STANDARD
TZOFFSETFROM:+0300
TZOFFSETTO:+0300
TZNAME:MSK
DTSTART:19700101T000000
END:STANDARD
END:VTIMEZONE
BEGIN:VEVENT
DTSTART:20260520T070000Z
DTSTAMP:20260423T103007Z
UID:ce4cf7496c89ee06655ae4f5ff5673d6@kadis.org
CREATED:20260423T103007Z
DESCRIPTION:
LOCATION:Онлайн
SEQUENCE:0
STATUS:CONFIRMED
SUMMARY:ИИ‑помощник: мастер‑класс по эффективным промптам 
BEGIN:VALARM
TRIGGER:-PT15M
ACTION:DISPLAY
END:VALARM
TRANSP:OPAQUE
END:VEVENT
END:VCALENDAR