BEGIN:VCALENDAR
VERSION:2.0
CALSCALE:GREGORIAN
METHOD:PUBLISH
X-WR-CALNAME:Кадис
X-WR-TIMEZONE:Europe/Moscow
BEGIN:VTIMEZONE
TZID:Europe/Moscow
X-LIC-LOCATION:Europe/Moscow
BEGIN:STANDARD
TZOFFSETFROM:+0300
TZOFFSETTO:+0300
TZNAME:MSK
DTSTART:19700101T000000
END:STANDARD
END:VTIMEZONE
BEGIN:VEVENT
DTSTART:20260602T070000Z
DTSTAMP:20260422T190140Z
UID:c2d7f7eb840d21227c55b5346e85c584@kadis.org
CREATED:20260422T190140Z
DESCRIPTION:В программе семинара разбор закона о государственном и муниципальном контроле (248-ФЗ) и анализ оставшихся положений Закона 294-ФЗ (О защите прав предпринимателей)\, который будет действовать до конца 2024 года. ...
LOCATION:Онлайн
SEQUENCE:0
STATUS:CONFIRMED
SUMMARY:Проверки надзорных органов: что нужно знать организации 
BEGIN:VALARM
TRIGGER:-PT15M
ACTION:DISPLAY
END:VALARM
TRANSP:OPAQUE
END:VEVENT
END:VCALENDAR