BEGIN:VCALENDAR
VERSION:2.0
CALSCALE:GREGORIAN
METHOD:PUBLISH
X-WR-CALNAME:Кадис
X-WR-TIMEZONE:Europe/Moscow
BEGIN:VTIMEZONE
TZID:Europe/Moscow
X-LIC-LOCATION:Europe/Moscow
BEGIN:STANDARD
TZOFFSETFROM:+0300
TZOFFSETTO:+0300
TZNAME:MSK
DTSTART:19700101T000000
END:STANDARD
END:VTIMEZONE
BEGIN:VEVENT
DTSTART:20260514T070000Z
DTSTAMP:20260422T190456Z
UID:91c029868e74a57dcaefc88bd7a6b5d5@kadis.org
CREATED:20260422T190456Z
DESCRIPTION:В рамках семинара будут рассмотрены последние изменения законодательства в части налогового контроля. Права и обязанности ФНС и Минфина\, процедуры проведения камеральной и выездной налоговых проверок\, а также дополнительных мероприятий налогового контроля. ...
LOCATION:Онлайн
SEQUENCE:0
STATUS:CONFIRMED
SUMMARY:Налоговая проверка: процедура проведения с учетом актуальной судебной практики 
BEGIN:VALARM
TRIGGER:-PT15M
ACTION:DISPLAY
END:VALARM
TRANSP:OPAQUE
END:VEVENT
END:VCALENDAR