BEGIN:VCALENDAR
VERSION:2.0
CALSCALE:GREGORIAN
METHOD:PUBLISH
X-WR-CALNAME:Кадис
X-WR-TIMEZONE:Europe/Moscow
BEGIN:VTIMEZONE
TZID:Europe/Moscow
X-LIC-LOCATION:Europe/Moscow
BEGIN:STANDARD
TZOFFSETFROM:+0300
TZOFFSETTO:+0300
TZNAME:MSK
DTSTART:19700101T000000
END:STANDARD
END:VTIMEZONE
BEGIN:VEVENT
DTSTART:20260506T110000Z
DTSTAMP:20260424T042845Z
UID:e1006d61cfa080914a32ef7f586bd431@kadis.org
CREATED:20260424T042845Z
DESCRIPTION:Закон о легализации доходов\, полученных преступным путем затрагивает практически все сферы экономической деятельности. С февраля 2022 года по сегодняшний момент принято множество поправок. Основная их часть направлена на усиление системы контроля. ...
LOCATION:Онлайн
SEQUENCE:0
STATUS:CONFIRMED
SUMMARY:Контроль по закону 115-ФЗ о легализации доходов\, полученных преступным путем 
BEGIN:VALARM
TRIGGER:-PT15M
ACTION:DISPLAY
END:VALARM
TRANSP:OPAQUE
END:VEVENT
END:VCALENDAR